BEGIN:VCALENDAR
VERSION:2.0
PRODID:-//ASALH - The Founders of Black History Month - ECPv6.15.20//NONSGML v1.0//EN
CALSCALE:GREGORIAN
METHOD:PUBLISH
X-ORIGINAL-URL:https://asalh.org
X-WR-CALDESC:Events for ASALH - The Founders of Black History Month
REFRESH-INTERVAL;VALUE=DURATION:PT1H
X-Robots-Tag:noindex
X-PUBLISHED-TTL:PT1H
BEGIN:VTIMEZONE
TZID:America/New_York
BEGIN:DAYLIGHT
TZOFFSETFROM:-0500
TZOFFSETTO:-0400
TZNAME:EDT
DTSTART:20240310T070000
END:DAYLIGHT
BEGIN:STANDARD
TZOFFSETFROM:-0400
TZOFFSETTO:-0500
TZNAME:EST
DTSTART:20241103T060000
END:STANDARD
BEGIN:DAYLIGHT
TZOFFSETFROM:-0500
TZOFFSETTO:-0400
TZNAME:EDT
DTSTART:20250309T070000
END:DAYLIGHT
BEGIN:STANDARD
TZOFFSETFROM:-0400
TZOFFSETTO:-0500
TZNAME:EST
DTSTART:20251102T060000
END:STANDARD
BEGIN:DAYLIGHT
TZOFFSETFROM:-0500
TZOFFSETTO:-0400
TZNAME:EDT
DTSTART:20260308T070000
END:DAYLIGHT
BEGIN:STANDARD
TZOFFSETFROM:-0400
TZOFFSETTO:-0500
TZNAME:EST
DTSTART:20261101T060000
END:STANDARD
END:VTIMEZONE
BEGIN:VTIMEZONE
TZID:America/Chicago
BEGIN:DAYLIGHT
TZOFFSETFROM:-0600
TZOFFSETTO:-0500
TZNAME:CDT
DTSTART:20240310T080000
END:DAYLIGHT
BEGIN:STANDARD
TZOFFSETFROM:-0500
TZOFFSETTO:-0600
TZNAME:CST
DTSTART:20241103T070000
END:STANDARD
BEGIN:DAYLIGHT
TZOFFSETFROM:-0600
TZOFFSETTO:-0500
TZNAME:CDT
DTSTART:20250309T080000
END:DAYLIGHT
BEGIN:STANDARD
TZOFFSETFROM:-0500
TZOFFSETTO:-0600
TZNAME:CST
DTSTART:20251102T070000
END:STANDARD
BEGIN:DAYLIGHT
TZOFFSETFROM:-0600
TZOFFSETTO:-0500
TZNAME:CDT
DTSTART:20260308T080000
END:DAYLIGHT
BEGIN:STANDARD
TZOFFSETFROM:-0500
TZOFFSETTO:-0600
TZNAME:CST
DTSTART:20261101T070000
END:STANDARD
END:VTIMEZONE
BEGIN:VEVENT
DTSTART;VALUE=DATE:20251101
DTEND;VALUE=DATE:20251201
DTSTAMP:20260420T043202
CREATED:20250428T140415Z
LAST-MODIFIED:20250428T140415Z
UID:10001898-1761955200-1764547199@asalh.org
SUMMARY:Branch Presidents' Meeting - November 2025
DESCRIPTION:[vc_row][vc_column][vc_row_inner][vc_column_inner width=”1/6″][/vc_column_inner][vc_column_inner width=”2/3″][vc_custom_heading text=”Branch Presidents’ Meeting” font_container=”tag:h2|font_size:40|text_align:center|color:%23003366|line_height:1″ google_fonts=”font_family:Roboto%20Condensed%3A300%2C300italic%2Cregular%2Citalic%2C700%2C700italic|font_style:700%20bold%20regular%3A700%3Anormal” css=””][/vc_column_inner][vc_column_inner width=”1/6″][/vc_column_inner][/vc_row_inner][/vc_column][/vc_row]
URL:https://asalh.org/calendar/branch-presidents-meeting-november-2025/
CATEGORIES:EC Private Calendar
ATTACH;FMTTYPE=image/png:https://asalh.org/wp-content/uploads/2025/04/Executive-Council-EC-Event-Thumb-1.png
END:VEVENT
BEGIN:VEVENT
DTSTART;VALUE=DATE:20251101
DTEND;VALUE=DATE:20251201
DTSTAMP:20260420T043202
CREATED:20250428T140731Z
LAST-MODIFIED:20250428T141154Z
UID:10001899-1761955200-1764547199@asalh.org
SUMMARY:Letters from the Development Chair to Executive Council Members about Council obligations at least twice annually – March and November
DESCRIPTION:[vc_row][vc_column][vc_row_inner][vc_column_inner width=”1/6″][/vc_column_inner][vc_column_inner width=”2/3″][vc_custom_heading text=”Letters from the Development Chair to Executive Council Members about Council obligations at least twice annually – March and November” font_container=”tag:h2|font_size:40|text_align:center|color:%23003366|line_height:1″ google_fonts=”font_family:Roboto%20Condensed%3A300%2C300italic%2Cregular%2Citalic%2C700%2C700italic|font_style:700%20bold%20regular%3A700%3Anormal” css=””][/vc_column_inner][vc_column_inner width=”1/6″][/vc_column_inner][/vc_row_inner][/vc_column][/vc_row]
URL:https://asalh.org/calendar/letters-from-the-development-chair-november/
CATEGORIES:EC Private Calendar
ATTACH;FMTTYPE=image/png:https://asalh.org/wp-content/uploads/2025/04/Executive-Council-EC-Event-Thumb-1.png
END:VEVENT
BEGIN:VEVENT
DTSTART;VALUE=DATE:20251101
DTEND;VALUE=DATE:20251201
DTSTAMP:20260420T043202
CREATED:20250428T141444Z
LAST-MODIFIED:20250428T141444Z
UID:10001900-1761955200-1764547199@asalh.org
SUMMARY:National President’s Letter to membership about Annual Fund is distributed January\, July and November
DESCRIPTION:[vc_row][vc_column][vc_row_inner][vc_column_inner width=”1/6″][/vc_column_inner][vc_column_inner width=”2/3″][vc_custom_heading text=”National President’s Letter to membership about Annual Fund is distributed January\, July and November” font_container=”tag:h2|font_size:40|text_align:center|color:%23003366|line_height:1″ google_fonts=”font_family:Roboto%20Condensed%3A300%2C300italic%2Cregular%2Citalic%2C700%2C700italic|font_style:700%20bold%20regular%3A700%3Anormal” css=””][/vc_column_inner][vc_column_inner width=”1/6″][/vc_column_inner][/vc_row_inner][/vc_column][/vc_row]
URL:https://asalh.org/calendar/national-presidents-letter-to-membership-november/
CATEGORIES:EC Private Calendar
ATTACH;FMTTYPE=image/png:https://asalh.org/wp-content/uploads/2025/04/Executive-Council-EC-Event-Thumb-1.png
END:VEVENT
BEGIN:VEVENT
DTSTART;VALUE=DATE:20251101
DTEND;VALUE=DATE:20251201
DTSTAMP:20260420T043202
CREATED:20250428T141639Z
LAST-MODIFIED:20250428T141639Z
UID:10001901-1761955200-1764547199@asalh.org
SUMMARY:Awards Committee will present information of the proposed timeline and other processes to the ASALH Planning Committee; Present also a budget to support the proposed process. (Include - The Awards Program as a unit of the Annual Conference\, but with its own time slot.)
DESCRIPTION:[vc_row][vc_column][vc_row_inner][vc_column_inner width=”1/6″][/vc_column_inner][vc_column_inner width=”2/3″][vc_custom_heading text=”Awards Committee will present information of the proposed timeline and other processes to the ASALH Planning Committee; Present also a budget to support the proposed process. (Include – The Awards Program as a unit of the Annual Conference\, but with its own time slot.)” font_container=”tag:h2|font_size:40|text_align:center|color:%23003366|line_height:1″ google_fonts=”font_family:Roboto%20Condensed%3A300%2C300italic%2Cregular%2Citalic%2C700%2C700italic|font_style:700%20bold%20regular%3A700%3Anormal” css=””][/vc_column_inner][vc_column_inner width=”1/6″][/vc_column_inner][/vc_row_inner][/vc_column][/vc_row]
URL:https://asalh.org/calendar/awards-committee-will-present-information-of-the-proposed-timeline-and-other-processes/
CATEGORIES:EC Private Calendar
ATTACH;FMTTYPE=image/png:https://asalh.org/wp-content/uploads/2025/04/Executive-Council-EC-Event-Thumb-1.png
END:VEVENT
BEGIN:VEVENT
DTSTART;VALUE=DATE:20251101
DTEND;VALUE=DATE:20251201
DTSTAMP:20260420T043202
CREATED:20250428T141842Z
LAST-MODIFIED:20250428T141842Z
UID:10001902-1761955200-1764547199@asalh.org
SUMMARY:Executive Council Meeting - November 2025
DESCRIPTION:[vc_row][vc_column][vc_row_inner][vc_column_inner width=”1/6″][/vc_column_inner][vc_column_inner width=”2/3″][vc_custom_heading text=”Executive Council Meeting” font_container=”tag:h2|font_size:40|text_align:center|color:%23003366|line_height:1″ google_fonts=”font_family:Roboto%20Condensed%3A300%2C300italic%2Cregular%2Citalic%2C700%2C700italic|font_style:700%20bold%20regular%3A700%3Anormal” css=””][vc_column_text css=””] \n\n\nThe secretary shall prepare the minutes from the previous meeting for approval \n\n\nThe Executive Director and Secretary will provide a report on EC members who have outstanding dues/fees and/or under sanction or disciplinary action. \n\n\nDistribute Code of Ethics\, Conflict of Interest\, Code of Conduct\, and any other required documents that need to be signed by December 31st by all EC members. \n\n\n[/vc_column_text][/vc_column_inner][vc_column_inner width=”1/6″][/vc_column_inner][/vc_row_inner][/vc_column][/vc_row]
URL:https://asalh.org/calendar/executive-council-meeting-november-2025/
CATEGORIES:EC Private Calendar
ATTACH;FMTTYPE=image/png:https://asalh.org/wp-content/uploads/2025/04/Executive-Council-EC-Event-Thumb-1.png
END:VEVENT
BEGIN:VEVENT
DTSTART;TZID=America/New_York:20251108T100000
DTEND;TZID=America/New_York:20251108T120000
DTSTAMP:20260420T043202
CREATED:20251022T182811Z
LAST-MODIFIED:20251022T182811Z
UID:10003346-1762596000-1762603200@asalh.org
SUMMARY:Teaching Black History as Resistance: A Social Justice Training for Trainers with Renowned Historian and Activist Dr. Lisa Brock
DESCRIPTION:[vc_row][vc_column][vc_column_text css=””] \nIn-Person Event | November 8\, 2025 | 10:00 a.m. EST \n[/vc_column_text][vc_single_image image=”281294″ img_size=”full” alignment=”center” css=””][/vc_column][/vc_row]
URL:https://asalh.org/calendar/teaching-black-history-as-resistance-a-social-justice-training-for-trainers-with-renowned-historian-and-activist-dr-lisa-brock/
LOCATION:Café Resistance Bookstore\, 5007 Soutel Dr.\, Jacksonville\, FL\, 32208\, United States
CATEGORIES:Partner Events
ATTACH;FMTTYPE=image/png:https://asalh.org/wp-content/uploads/2025/04/Partner-Event-thumb.png
END:VEVENT
BEGIN:VEVENT
DTSTART;TZID=America/New_York:20251108T100000
DTEND;TZID=America/New_York:20251108T160000
DTSTAMP:20260420T043202
CREATED:20251024T175850Z
LAST-MODIFIED:20251024T175850Z
UID:10003347-1762596000-1762617600@asalh.org
SUMMARY:An American Revolution Symposium-Honoring Black Patriots & Loyalists
DESCRIPTION:[vc_row][vc_column][vc_column_text css=””] \nIn-Person Event | November 8\, 2025 | 10:00 a.m. EST \n[/vc_column_text][vc_column_text css=””]\n		\n			\n			\n		\n\n		[/vc_column_text][/vc_column][/vc_row]
URL:https://asalh.org/calendar/an-american-revolution-symposium-honoring-black-patriots-loyalists/
LOCATION:Thomas Balch Library\, 208 W Market Street\, Leesburg\, VA\, 20176\, United States
CATEGORIES:Partner Events
ATTACH;FMTTYPE=image/png:https://asalh.org/wp-content/uploads/2025/04/Partner-Event-thumb.png
END:VEVENT
BEGIN:VEVENT
DTSTART;TZID=America/Chicago:20251108T113000
DTEND;TZID=America/Chicago:20251108T130000
DTSTAMP:20260420T043202
CREATED:20251106T203243Z
LAST-MODIFIED:20251106T204005Z
UID:10003411-1762601400-1762606800@asalh.org
SUMMARY:James Weldon Johnson Branch of ASALH Black History Freedom School
DESCRIPTION:[vc_row][vc_column][vc_column_text css=””] \nIn-Person Event | Starting November 4\, 2025 | 11:30 a.m. EST \nThe James Weldon Johnson Branch of ASALH Black History Freedom School started the Fall Term on October 4\, 2025\, for elementary\, middle\, and high school students. Time is 11:30 a.m. to 1:00 p.m. We continue to teach Black History to students\, and their parents are welcome to attend with them. The Black History 365 textbook is used and supplemented by material from our teachers. Local history is included. \nKey Components of Freedom Schools: \nCurriculum: \n\n\n\nElementary School: Introduces young students to key figures in Black history\, basic concepts of civil rights\, and African American culture. This can include stories\, arts and crafts\, music\, and age-appropriate discussions about fairness and justice.\nMiddle School: Builds on the elementary foundation by exploring more detailed historical events\, the Civil Rights Movement\, and contemporary social issues. Students engage in more critical thinking and analysis\, often through projects\, discussions\, and multimedia presentations.\nHigh School: Focuses on a deeper understanding of Black history and its relevance today. This includes studying primary sources\, conducting research projects\, and engaging in debates. High school students are encouraged to think critically about social justice issues and their role in creating change.\n\n\n\nMethodologies: \n\n\n\nInteractive Learning: Use of interactive and participatory teaching methods\, including group discussions\, role-playing\, and firsthand activities.\nCommunity Involvement: Engaging with the local community through field trips\, guest speakers\, and community service projects.\nCulturally Relevant Pedagogy: Incorporating students’ cultural references in all aspects of learning to make the curriculum more relatable and impactful.\n\n\n\n\n			\n			\n		\n\n		[/vc_column_text][/vc_column][/vc_row]
URL:https://asalh.org/calendar/james-weldon-johnson-branch-of-asalh-black-history-freedom-school/2025-11-08/
LOCATION:Mount Sinai Missionary Baptist Church\, 2036 Silver Street B. J. Lane Education Annex\, Jacksonville\, 32206\, United States
CATEGORIES:Branch Events
ATTACH;FMTTYPE=image/png:https://asalh.org/wp-content/uploads/2021/11/Branch-Events.png
END:VEVENT
BEGIN:VEVENT
DTSTART;TZID=America/Chicago:20251108T130000
DTEND;TZID=America/Chicago:20251108T150000
DTSTAMP:20260420T043202
CREATED:20250317T193623Z
LAST-MODIFIED:20250317T195513Z
UID:10001621-1762606800-1762614000@asalh.org
SUMMARY:ASALH W. Marvin Dulaney Branch Meeting
DESCRIPTION:
URL:https://asalh.org/calendar/asalh-w-marvin-dulaney-branch-meeting/2025-11-08/
LOCATION:African American Museum of Dallas\, 3536 Grand Ave\, Dallas\, TX\, 75210\, United States
CATEGORIES:Branch Events
ATTACH;FMTTYPE=image/png:https://asalh.org/wp-content/uploads/2021/11/Branch-Events.png
END:VEVENT
END:VCALENDAR