BEGIN:VCALENDAR
VERSION:2.0
PRODID:-//ASALH - The Founders of Black History Month - ECPv6.15.20//NONSGML v1.0//EN
CALSCALE:GREGORIAN
METHOD:PUBLISH
X-WR-CALNAME:ASALH - The Founders of Black History Month
X-ORIGINAL-URL:https://asalh.org
X-WR-CALDESC:Events for ASALH - The Founders of Black History Month
REFRESH-INTERVAL;VALUE=DURATION:PT1H
X-Robots-Tag:noindex
X-PUBLISHED-TTL:PT1H
BEGIN:VTIMEZONE
TZID:America/New_York
BEGIN:DAYLIGHT
TZOFFSETFROM:-0500
TZOFFSETTO:-0400
TZNAME:EDT
DTSTART:20250309T070000
END:DAYLIGHT
BEGIN:STANDARD
TZOFFSETFROM:-0400
TZOFFSETTO:-0500
TZNAME:EST
DTSTART:20251102T060000
END:STANDARD
BEGIN:DAYLIGHT
TZOFFSETFROM:-0500
TZOFFSETTO:-0400
TZNAME:EDT
DTSTART:20260308T070000
END:DAYLIGHT
BEGIN:STANDARD
TZOFFSETFROM:-0400
TZOFFSETTO:-0500
TZNAME:EST
DTSTART:20261101T060000
END:STANDARD
BEGIN:DAYLIGHT
TZOFFSETFROM:-0500
TZOFFSETTO:-0400
TZNAME:EDT
DTSTART:20270314T070000
END:DAYLIGHT
BEGIN:STANDARD
TZOFFSETFROM:-0400
TZOFFSETTO:-0500
TZNAME:EST
DTSTART:20271107T060000
END:STANDARD
END:VTIMEZONE
BEGIN:VEVENT
DTSTART;TZID=America/New_York:20260426T160000
DTEND;TZID=America/New_York:20260426T173000
DTSTAMP:20260420T043736
CREATED:20260402T121337Z
LAST-MODIFIED:20260402T121412Z
UID:10003870-1777219200-1777224600@asalh.org
SUMMARY:Faith\, Hope & Love: History-Making Women of Our Time
DESCRIPTION:[vc_row][vc_column width=”1/6″][/vc_column][vc_column width=”2/3″][vc_single_image image=”293858″ img_size=”full” alignment=”center” style=”vc_box_border” border_color=”white” onclick=”img_link_large” img_link_target=”_blank” css=””][/vc_column][vc_column width=”1/6″][/vc_column][/vc_row][vc_row][vc_column][vc_empty_space][vc_column_text css=””] \nIn-Person Event | Sunday\, April 26\, 2026 | 4:00 p.m. EST / 3:00 p.m. CST / 2:00 p.m. MST / 1:00 p.m. PST\nVikki J. Myers\, co-founder and director of worship of Kingdom Impact Theater Ministries\, will present a revival of her monologue and music performance\, “Faith\, Hope and Love: History-Making Women of Our Time\,” returning to Elk Grove Village with a 3 PM performance on Sunday\, April 26\, at Prince of Peace United Methodist Church. \nAccompanied by musical director Garlan Garner\, Vikki portrays eight women whose steadfast faith in Christ was evident in making significant career choices\, life-changing decisions or no-time-to-think emergency actions. This 20th anniversary multimedia performance is directed by ASALH member Michael Edgar Myers. \n“Faith\, Hope and Love: History-Making Women of Our Time\,” is the third in the series of six shows by Kingdom Impact Theater Ministries it America 250 theater festival\, “Convergence of History: Four Anniversaries\, One Faith\,” which spotlights events and individuals in the complicated relationship between Black History\, American History and Christianity. The festival runs through Juneteenth weekend in various locations in Chicago and suburbs. \nIf you’d like to learn more\, please contact mem@kit-ministries.com. \nRegistration required (click the button below to register)[/vc_column_text][vc_btn title=”Register Here” style=”flat” color=”juicy-pink” align=”center” css=”” link=”url:https%3A%2F%2Fwww.eventbrite.com%2Fe%2Ffaith-hope-love-history-making-women-of-our-time-tickets-1986078084013%3Faff%3Doddtdtcreator|target:_blank”][/vc_column][/vc_row]
URL:https://asalh.org/calendar/faith-hope-love-history-making-women-of-our-time/
LOCATION:Prince of Peace United Methodist Church\, 1400 S. Arlington Heights Road\, Elk Grove Village\, 60007\, United States
CATEGORIES:ASALH Events,Member Events
ATTACH;FMTTYPE=image/png:https://asalh.org/wp-content/uploads/2023/08/Screenshot-2023-08-24-174707.png
END:VEVENT
END:VCALENDAR