BEGIN:VCALENDAR
VERSION:2.0
PRODID:-//ASALH - The Founders of Black History Month - ECPv6.15.20//NONSGML v1.0//EN
CALSCALE:GREGORIAN
METHOD:PUBLISH
X-ORIGINAL-URL:https://asalh.org
X-WR-CALDESC:Events for ASALH - The Founders of Black History Month
REFRESH-INTERVAL;VALUE=DURATION:PT1H
X-Robots-Tag:noindex
X-PUBLISHED-TTL:PT1H
BEGIN:VTIMEZONE
TZID:America/New_York
BEGIN:DAYLIGHT
TZOFFSETFROM:-0500
TZOFFSETTO:-0400
TZNAME:EDT
DTSTART:20240310T070000
END:DAYLIGHT
BEGIN:STANDARD
TZOFFSETFROM:-0400
TZOFFSETTO:-0500
TZNAME:EST
DTSTART:20241103T060000
END:STANDARD
BEGIN:DAYLIGHT
TZOFFSETFROM:-0500
TZOFFSETTO:-0400
TZNAME:EDT
DTSTART:20250309T070000
END:DAYLIGHT
BEGIN:STANDARD
TZOFFSETFROM:-0400
TZOFFSETTO:-0500
TZNAME:EST
DTSTART:20251102T060000
END:STANDARD
BEGIN:DAYLIGHT
TZOFFSETFROM:-0500
TZOFFSETTO:-0400
TZNAME:EDT
DTSTART:20260308T070000
END:DAYLIGHT
BEGIN:STANDARD
TZOFFSETFROM:-0400
TZOFFSETTO:-0500
TZNAME:EST
DTSTART:20261101T060000
END:STANDARD
END:VTIMEZONE
BEGIN:VTIMEZONE
TZID:America/Chicago
BEGIN:DAYLIGHT
TZOFFSETFROM:-0600
TZOFFSETTO:-0500
TZNAME:CDT
DTSTART:20240310T080000
END:DAYLIGHT
BEGIN:STANDARD
TZOFFSETFROM:-0500
TZOFFSETTO:-0600
TZNAME:CST
DTSTART:20241103T070000
END:STANDARD
BEGIN:DAYLIGHT
TZOFFSETFROM:-0600
TZOFFSETTO:-0500
TZNAME:CDT
DTSTART:20250309T080000
END:DAYLIGHT
BEGIN:STANDARD
TZOFFSETFROM:-0500
TZOFFSETTO:-0600
TZNAME:CST
DTSTART:20251102T070000
END:STANDARD
BEGIN:DAYLIGHT
TZOFFSETFROM:-0600
TZOFFSETTO:-0500
TZNAME:CDT
DTSTART:20260308T080000
END:DAYLIGHT
BEGIN:STANDARD
TZOFFSETFROM:-0500
TZOFFSETTO:-0600
TZNAME:CST
DTSTART:20261101T070000
END:STANDARD
END:VTIMEZONE
BEGIN:VEVENT
DTSTART;VALUE=DATE:20250401
DTEND;VALUE=DATE:20250501
DTSTAMP:20260420T043259
CREATED:20250425T191954Z
LAST-MODIFIED:20250428T132503Z
UID:10001866-1743465600-1746057599@asalh.org
SUMMARY:Development Conference Call for Branch and other Leaders are held in April and September
DESCRIPTION:[vc_row][vc_column][vc_row_inner][vc_column_inner width=”1/6″][/vc_column_inner][vc_column_inner width=”2/3″][vc_custom_heading text=”Development Conference Call for Branch and other Leaders are held in April and September” font_container=”tag:h2|font_size:40|text_align:center|color:%23003366|line_height:1″ google_fonts=”font_family:Roboto%20Condensed%3A300%2C300italic%2Cregular%2Citalic%2C700%2C700italic|font_style:700%20bold%20regular%3A700%3Anormal” css=””][/vc_column_inner][vc_column_inner width=”1/6″][/vc_column_inner][/vc_row_inner][/vc_column][/vc_row]
URL:https://asalh.org/calendar/development-conference-call-for-branch-and-other-leaders-are-held-in-april/
CATEGORIES:EC Private Calendar
ATTACH;FMTTYPE=image/png:https://asalh.org/wp-content/uploads/2025/04/Executive-Council-EC-Event-Thumb-1.png
END:VEVENT
BEGIN:VEVENT
DTSTART;VALUE=DATE:20250405
DTEND;VALUE=DATE:20250501
DTSTAMP:20260420T043259
CREATED:20250330T225943Z
LAST-MODIFIED:20250330T230100Z
UID:10001823-1743811200-1746057599@asalh.org
SUMMARY:2025 Using Our Art to Tell Our Stories IV: "We Remember Fort Pillow!" Art Show
DESCRIPTION:
URL:https://asalh.org/calendar/2025-using-our-art-to-tell-our-stories-iv-we-remember-fort-pillow-art-show/
LOCATION:Withers Collections & Gallery\, 333 Beale St.\, Memphis\, 38103\, United States
CATEGORIES:Community Event
ATTACH;FMTTYPE=image/png:https://asalh.org/wp-content/uploads/2023/08/Screenshot-2023-08-24-174132.png
END:VEVENT
BEGIN:VEVENT
DTSTART;TZID=America/New_York:20250424T193000
DTEND;TZID=America/New_York:20250424T210000
DTSTAMP:20260420T043259
CREATED:20250227T050629Z
LAST-MODIFIED:20250422T130036Z
UID:10001581-1745523000-1745528400@asalh.org
SUMMARY:ASALH Executive Council Meeting
DESCRIPTION:[vc_row][vc_column][vc_empty_space][vc_column_text css=””] \nExecutive Council Meeting\nThursday\, April 24\, 2025 (PLEASE NOTE: This meeting has been moved from April 17th to April 24th)\n7:30 p.m. EST \nThis meeting will be held online via Zoom. \nAccess will be provided to ASALH members who request it. Requests to observe the meeting must be made using this form. \nRSVP’s must be submitted by April 24th\, 3 p.m. EST. \n[/vc_column_text][vc_column_text]\n\n\n\n(Live - Current) EC Meeting RSVP\n\n\n\n\n\n\n\n\n    Name\n        *\n    \n    \n    \n    \n\n\n    Email\n        *\n    \n    \n    \n    \n\n\n	Phone type\n		*\n	\n						\n					 Cell\n					\n					 Landline\n\n	\n	\n\n\n    Best Phone Number\n        *\n    \n    \n    \n    \n\n\n    Branch Name\n        \n    \n    \n    \n    \n\n\n	I am RSVPing to observe (if you want to RSVP for more than one meeting\, please fill out and submit the form again for any additional dates)\n		*\n	\n						\n					 April 9\, 2026\n					\n					 May 14\, 2026\n\n	\n	\n\n\n    Are you a current member of ASALH?\n        *\n    \n    					\n					 YES\n					\n					 NO\n					\n					 UNSURE\n\n    \n    \n\n\nPLEASE NOTE: Current ASALH membership is required for this meeting. If you plan to join\, please click this link and update your membership. After your membership is updated\, please resubmit this form to join the meeting.\n\n\n    Captcha\n        \n    \n    \n    \n    \n\n\n	\n\nSubmit\n\n\n\n	\n			\n			\n				If you are human\, leave this field blank.			\n			\n		\n		\n\n\n\nΔ \n\n[/vc_column_text][/vc_column][/vc_row]
URL:https://asalh.org/calendar/asalh-executive-council-meeting-6/
LOCATION:Online via Zoom
CATEGORIES:Branch Events,Member Events,National Events
ATTACH;FMTTYPE=image/png:https://asalh.org/wp-content/uploads/2022/05/ASALH-PRESENTS.png
END:VEVENT
BEGIN:VEVENT
DTSTART;TZID=America/New_York:20250425T190000
DTEND;TZID=America/New_York:20250425T210000
DTSTAMP:20260420T043259
CREATED:20250207T041228Z
LAST-MODIFIED:20250207T041228Z
UID:10001549-1745607600-1745614800@asalh.org
SUMMARY:Acclaimed Singer/Songwriter Rochelle Rice Presents Tell Her This
DESCRIPTION:As a singer and songwriter\, Rochelle Rice creates introspective and deeply profound live music experiences. Her brand of lyric-driven\, heart-centered music has led to collaborations with the storied Sweet Honey in the Rock and the fiery and fierce behld. \nRochelle is a masterful vocalist\, composer\, and storyteller whose artistry blurs the lines between jazz\, soul\, and contemporary pop. With a voice that moves effortlessly between power and vulnerability\, she creates music that resonates deeply\, drawing audiences into a rich\, emotional world. Rochelle has lit up stages like The Kennedy Center\, Blues Alley\, and Strathmore Mansion\, becoming a standout presence on the East Coast music scene. \nHer debut project\, Wonder\, is a vibrant showcase of original compositions that reflect her musical depth and emotional honesty. Rochelle’s collaborative spirit has led her to tour with the legendary Sweet Honey In The Rock® and work alongside a wide range of celebrated artists\, further cementing her reputation as a versatile and innovative performer. \nTrained in classical voice at East Carolina University and jazz studies at Howard University\, Rochelle honed her craft as part of Howard’s acclaimed vocal ensemble Afro Blue\, under the mentorship of Connaitre Miller. Her performances blend technical brilliance with a deep sense of humanity\, bridging tradition and modernity with ease. \nOffstage\, Rochelle is just as impactful. A passionate advocate for social justice and education\, she has lent her voice to protests and rallies and created music curricula for DC Public Schools during her tenure with the DC Jazz Festival. She continues to mentor young artists through partnerships with Strathmore Music Center. Her contributions have earned her accolades such as Washington City Paper’s Best Jazz Vocalist and the Bernard Ebb Songwriter Award. \nRochelle’s latest project\, Tell Her This\, combines podcasting\, live music\, and visual art to celebrate the stories and wisdom of women across generations. Based in Washington\, DC\, she shares her creative life with her husband and daughter\, continuing to inspire through her music\, her message\, and her commitment to meaningful connections.
URL:https://asalh.org/calendar/acclaimed-singer-songwriter-rochelle-rice-presents-tell-her-this/
LOCATION:Hill Center at the Old Naval Hospital\, 921 Pennsylvania Ave SE\, Washington\, DC\, United States
CATEGORIES:Community Event
ATTACH;FMTTYPE=image/png:https://asalh.org/wp-content/uploads/2023/08/Screenshot-2023-08-24-174132.png
END:VEVENT
BEGIN:VEVENT
DTSTART;TZID=America/New_York:20250425T190000
DTEND;TZID=America/New_York:20250425T210000
DTSTAMP:20260420T043259
CREATED:20250424T152940Z
LAST-MODIFIED:20250424T153123Z
UID:10001860-1745607600-1745614800@asalh.org
SUMMARY:A National Town Hall Meeting: Report Card on Trump - First 100 Days
DESCRIPTION:[vc_row][vc_column][vc_row_inner][vc_column_inner width=”1/6″][/vc_column_inner][vc_column_inner width=”2/3″][vc_single_image image=”262336″ img_size=”full” alignment=”center” style=”vc_box_border” border_color=”white” onclick=”img_link_large” img_link_target=”_blank” css=””][/vc_column_inner][vc_column_inner width=”1/6″][/vc_column_inner][/vc_row_inner][/vc_column][/vc_row]
URL:https://asalh.org/calendar/a-national-town-hall-meeting-report-card-on-trump-first-100-days/
LOCATION:Shiloh Baptist Church\, 1500 Ninth Street NW\, DC\, 20001\, United States
CATEGORIES:Community Event,National Events
ATTACH;FMTTYPE=image/png:https://asalh.org/wp-content/uploads/2023/08/Screenshot-2023-08-24-174132.png
END:VEVENT
BEGIN:VEVENT
DTSTART;TZID=America/New_York:20250426T113000
DTEND;TZID=America/New_York:20250426T130000
DTSTAMP:20260420T043259
CREATED:20250407T163919Z
LAST-MODIFIED:20250407T163919Z
UID:10001831-1745667000-1745672400@asalh.org
SUMMARY:The Oxon Cove Trail Ribbon Cutting Ceremony
DESCRIPTION:[vc_row][vc_column width=”1/2″][vc_column_text css=””]\n		\n			\n			\n		\n\n		[/vc_column_text][/vc_column][vc_column width=”1/2″][vc_column_text css=””] \n\nThe National Park Service\, the Town of Forest Heights and Potomac Riverkeeper invite you to the official ribbon cutting ceremony for the Oxon Cove Trail on April 26 at 11:30 a.m. This momentous occasion will feature remarks from local government leaders and representatives from the National Park Service. \nThe Forest Heights Elementary School choir will also be present to serenade us as we celebrate the completion of this significant achievement in our community. \nIn addition to the ribbon cutting\, Potomac Riverkeeper will host an Earth Day volunteer clean-up along the Oxon Cove Trail from 9 a.m. until 2:30 p.m.\, with two shifts available for volunteers. Sign up for the volunteer event here \n  \nMore Information… \n\n[/vc_column_text][/vc_column][/vc_row]
URL:https://asalh.org/calendar/the-oxon-cove-trail-ribbon-cutting-ceremony/
LOCATION:Oxon Cove Park and Oxon Hill Farm\, 6411 Oxon Hill Rd\, Oxon Hill\, Prince George\, MD\, 20745\, United States
CATEGORIES:Community Event
ATTACH;FMTTYPE=image/png:https://asalh.org/wp-content/uploads/2023/08/Screenshot-2023-08-24-174132.png
END:VEVENT
BEGIN:VEVENT
DTSTART;TZID=America/Chicago:20250426T150000
DTEND;TZID=America/Chicago:20250426T170000
DTSTAMP:20260420T043259
CREATED:20250317T195702Z
LAST-MODIFIED:20250317T195915Z
UID:10001681-1745679600-1745686800@asalh.org
SUMMARY:ASALH W. Marvin Dulaney Branch Host Freedom Schools Saturdays
DESCRIPTION:
URL:https://asalh.org/calendar/asalh-w-marvin-dulaney-branch-host-freedom-schools/2025-04-26/
LOCATION:African American Museum of Dallas\, 3536 Grand Ave\, Dallas\, TX\, 75210\, United States
CATEGORIES:Branch Events
ATTACH;FMTTYPE=image/png:https://asalh.org/wp-content/uploads/2021/11/Branch-Events.png
END:VEVENT
END:VCALENDAR